BEGIN:VCALENDAR
BEGIN:VTIMEZONE
TZID:Europe/London
BEGIN:DAYLIGHT
TZOFFSETFROM:+0000
RRULE:FREQ=YEARLY;BYMONTH=3;BYDAY=-1SU
DTSTART:19810329T010000
TZNAME:BST
TZOFFSETTO:+0100
END:DAYLIGHT
BEGIN:STANDARD
TZOFFSETFROM:+0100
RRULE:FREQ=YEARLY;BYMONTH=10;BYDAY=-1SU
DTSTART:19961027T020000
TZNAME:GMT
TZOFFSETTO:+0000
END:STANDARD
END:VTIMEZONE
VERSION:2.0
PRODID:-//BoxStuff//CRM 1.0.0//EN
CALSCALE:Gregorian
BEGIN:VEVENT
DTSTART;TZID=Europe/London:20181216T080000
DTEND;TZID=Europe/London:20181216T120000
DESCRIPTION:Sunday Morning Coaching for Opti C1/C2, Opti Green, Feva. Session times advised in Bookings.Opti Learn to Race has moved to an afternoon session. Briefing 12:30.Bookings open to club members only
DTSTAMP;TZID=Europe/London:20180907T015625
CREATED;TZID=Europe/London:20180907T015625
LAST_MODIFIED;TZID=Europe/London:20180907T015625
SUMMARY:Sunday Morning Coaching 
UID:fe61d6be-5a23-4dcb-8423-e02f5271dc1f
END:VEVENT
END:VCALENDAR
