BEGIN:VCALENDAR
BEGIN:VTIMEZONE
TZID:Europe/London
BEGIN:DAYLIGHT
TZOFFSETFROM:+0000
RRULE:FREQ=YEARLY;BYMONTH=3;BYDAY=-1SU
DTSTART:19810329T010000
TZNAME:BST
TZOFFSETTO:+0100
END:DAYLIGHT
BEGIN:STANDARD
TZOFFSETFROM:+0100
RRULE:FREQ=YEARLY;BYMONTH=10;BYDAY=-1SU
DTSTART:19961027T020000
TZNAME:GMT
TZOFFSETTO:+0000
END:STANDARD
END:VTIMEZONE
VERSION:2.0
PRODID:-//BoxStuff//CRM 1.0.0//EN
CALSCALE:Gregorian
BEGIN:VEVENT
DTSTART;TZID=Europe/London:20191201T093000
DTEND;TZID=Europe/London:20191201T120000
DESCRIPTION:Morning Coaching9:30 Opti C1/C2 Bookings RequiredNo LTR and Feva this Sunday
DTSTAMP;TZID=Europe/London:20191108T064039
CREATED;TZID=Europe/London:20191108T064039
LAST_MODIFIED;TZID=Europe/London:20191129T093242
SUMMARY:Sunday Coaching 
UID:460b2d4c-3b08-4724-a41f-7341eaed05e5
END:VEVENT
END:VCALENDAR
