BEGIN:VCALENDAR
BEGIN:VTIMEZONE
TZID:Europe/London
BEGIN:DAYLIGHT
TZOFFSETFROM:+0000
RRULE:FREQ=YEARLY;BYMONTH=3;BYDAY=-1SU
DTSTART:19810329T010000
TZNAME:BST
TZOFFSETTO:+0100
END:DAYLIGHT
BEGIN:STANDARD
TZOFFSETFROM:+0100
RRULE:FREQ=YEARLY;BYMONTH=10;BYDAY=-1SU
DTSTART:19961027T020000
TZNAME:GMT
TZOFFSETTO:+0000
END:STANDARD
END:VTIMEZONE
VERSION:2.0
PRODID:-//BoxStuff//CRM 1.0.0//EN
CALSCALE:Gregorian
BEGIN:VEVENT
DTSTART;TZID=Europe/London:20191201T123000
DTEND;TZID=Europe/London:20191201T160000
DESCRIPTION:Informal club racing. Course and number of races to be determined by the RO at briefing.  The bulk of junior classes will be attending the Peter Blake Regatta at Torbay. 12:30 briefing1:25 first warning signalAll classesClub Race Docs
DTSTAMP;TZID=Europe/London:20190717T022637
CREATED;TZID=Europe/London:20190717T022637
LAST_MODIFIED;TZID=Europe/London:20191028T050927
SUMMARY:Harbour Racing
UID:960ee5fe-46b5-40ad-aab5-a2a1a66b8f13
END:VEVENT
END:VCALENDAR
