BEGIN:VCALENDAR
BEGIN:VTIMEZONE
TZID:Europe/London
BEGIN:DAYLIGHT
TZOFFSETFROM:+0000
RRULE:FREQ=YEARLY;BYMONTH=3;BYDAY=-1SU
DTSTART:19810329T010000
TZNAME:BST
TZOFFSETTO:+0100
END:DAYLIGHT
BEGIN:STANDARD
TZOFFSETFROM:+0100
RRULE:FREQ=YEARLY;BYMONTH=10;BYDAY=-1SU
DTSTART:19961027T020000
TZNAME:GMT
TZOFFSETTO:+0000
END:STANDARD
END:VTIMEZONE
VERSION:2.0
PRODID:-//BoxStuff//CRM 1.0.0//EN
CALSCALE:Gregorian
BEGIN:VEVENT
DTSTART;TZID=Europe/London:20181216T123000
DTEND;TZID=Europe/London:20181216T180000
DESCRIPTION:Season Points Racing for club members &amp; Christmas BBQ (SP 22, 23)12:30 briefing / 1:25 first warning signal / all classes.Club Sailing InstructionsClub member Christmas party after sailing. 
DTSTAMP;TZID=Europe/London:20180702T035048
CREATED;TZID=Europe/London:20180702T035048
LAST_MODIFIED;TZID=Europe/London:20181102T195359
SUMMARY:Season Points Racing 22,23 
UID:f3810d8a-23bd-4c91-9fc6-197ae67551f5
END:VEVENT
END:VCALENDAR
